BEGIN:VCALENDAR
VERSION:2.0
PRODID:-//Comunicazione Italiana//comunicazioneitaliana.it//IT
CALSCALE:GREGORIAN
METHOD:PUBLISH
X-WR-CALNAME:Comunicazione Italiana
X-WR-CALDESC:Connessioni sicure\, in mare aperto
X-WR-TIMEZONE:Europe/Rome
BEGIN:VTIMEZONE
TZID:Europe/Rome
X-LIC-LOCATION:Europe/Rome
BEGIN:STANDARD
TZOFFSETFROM:+0200
TZOFFSETTO:+0100
TZNAME:CET
DTSTART:19701028T030000
RRULE:FREQ=YEARLY;BYMONTH=10;BYDAY=-1SU
END:STANDARD
BEGIN:DAYLIGHT
TZOFFSETFROM:+0100
TZOFFSETTO:+0200
TZNAME:CEST
DTSTART:19700329T020000
RRULE:FREQ=YEARLY;BYMONTH=3;BYDAY=-1SU
END:DAYLIGHT
END:VTIMEZONE
BEGIN:VEVENT
UID:69e77177e55af6.97642871@comunicazioneitaliana
DTSTAMP:20260421T124543Z
DTSTART;TZID=Europe/Rome:20260522T110000
DTEND;TZID=Europe/Rome:20260524T171500
SUMMARY:PERSONALDATA SAILING EXPERIENCE
DESCRIPTION:Connessioni sicure\, in mare aperto
ORGANIZER;CN=Comunicazione Italiana:mailto:info@comunicazioneitaliana.it
LOCATION:Marina di Scarlino
URL:https://comunicazioneitaliana.it/eventi/personal-data
END:VEVENT
END:VCALENDAR
