BEGIN:VCALENDAR
VERSION:2.0
PRODID:-//Comunicazione Italiana//comunicazioneitaliana.it//IT
CALSCALE:GREGORIAN
METHOD:PUBLISH
X-WR-CALNAME:Comunicazione Italiana
X-WR-CALDESC:La regata che unisce la Sailing Community
X-WR-TIMEZONE:Europe/Rome
BEGIN:VTIMEZONE
TZID:Europe/Rome
X-LIC-LOCATION:Europe/Rome
BEGIN:STANDARD
TZOFFSETFROM:+0200
TZOFFSETTO:+0100
TZNAME:CET
DTSTART:19701028T030000
RRULE:FREQ=YEARLY;BYMONTH=10;BYDAY=-1SU
END:STANDARD
BEGIN:DAYLIGHT
TZOFFSETFROM:+0100
TZOFFSETTO:+0200
TZNAME:CEST
DTSTART:19700329T020000
RRULE:FREQ=YEARLY;BYMONTH=3;BYDAY=-1SU
END:DAYLIGHT
END:VTIMEZONE
BEGIN:VEVENT
UID:69e9f6edac6462.19085830@comunicazioneitaliana
DTSTAMP:20260423T103941Z
DTSTART;TZID=Europe/Rome:20260919T090000
DTEND;TZID=Europe/Rome:20260919T180000
SUMMARY:SAILING CASTLE CUP 2026 | Sport Experience
DESCRIPTION:La regata che unisce la Sailing Community
ORGANIZER;CN=Comunicazione Italiana:mailto:info@comunicazioneitaliana.it
LOCATION:Ischia
URL:https://comunicazioneitaliana.it/eventi/castle-cup-2026
END:VEVENT
END:VCALENDAR
